BEGIN:VCALENDAR
VERSION:2.0
PRODID:-//Okanagan Autocross - ECPv6.15.20//NONSGML v1.0//EN
CALSCALE:GREGORIAN
METHOD:PUBLISH
X-WR-CALNAME:Okanagan Autocross
X-ORIGINAL-URL:https://www.okanaganautocross.net
X-WR-CALDESC:Events for Okanagan Autocross
REFRESH-INTERVAL;VALUE=DURATION:PT1H
X-Robots-Tag:noindex
X-PUBLISHED-TTL:PT1H
BEGIN:VTIMEZONE
TZID:America/Vancouver
BEGIN:DAYLIGHT
TZOFFSETFROM:-0800
TZOFFSETTO:-0700
TZNAME:PDT
DTSTART:20250309T100000
END:DAYLIGHT
BEGIN:STANDARD
TZOFFSETFROM:-0700
TZOFFSETTO:-0800
TZNAME:PST
DTSTART:20251102T090000
END:STANDARD
BEGIN:DAYLIGHT
TZOFFSETFROM:-0800
TZOFFSETTO:-0700
TZNAME:PDT
DTSTART:20260308T100000
END:DAYLIGHT
BEGIN:STANDARD
TZOFFSETFROM:-0700
TZOFFSETTO:-0800
TZNAME:PST
DTSTART:20261101T090000
END:STANDARD
BEGIN:DAYLIGHT
TZOFFSETFROM:-0800
TZOFFSETTO:-0700
TZNAME:PDT
DTSTART:20270314T100000
END:DAYLIGHT
BEGIN:STANDARD
TZOFFSETFROM:-0700
TZOFFSETTO:-0800
TZNAME:PST
DTSTART:20271107T090000
END:STANDARD
END:VTIMEZONE
BEGIN:VEVENT
DTSTART;TZID=America/Vancouver:20260425T073000
DTEND;TZID=America/Vancouver:20260425T153000
DTSTAMP:20260423T025814
CREATED:20260224T171245Z
LAST-MODIFIED:20260224T173704Z
UID:2377-1777102200-1777131000@www.okanaganautocross.net
SUMMARY:OPDA Saturday Autocross
DESCRIPTION:Full day of Autocross in Kelowna \nPlease visit https://www.okanaganautocross.net for information about Autocross in the Okanagan Valley.\nRegister here \nClick here to download the morning course map for this event.\nClick here to download the afternoon course map for this event. \nThis Okanagan Autocross event is being held at Okanagan College\, west parking lot\, 1000 K.L.O. Road in Kelowna\, BC. Please be aware of the morning schedule to ensure you arrive on time. \n7:30 AM – Onsite check-in\n8:00 AM – Course walk\n8:45 AM – Driver’s meeting\n9:00 AM – Competition begins \nAll competitors must check-in at the registration table on arrival and complete the course walk in order to participate in the event. \nParticipants must be familiar with the OPDA Okanagan Autoslalom Supplementary Regulations and the CACC Autoslalom Regulations. \nPlease remember that an approved helmet is required\, and that no open-toed shoes are allowed. Also note that\, competitors are required to submit a completed technical self-declaration form to the technical inspector once annually for each vehicle used in an Okanagan Autocross event. \nThe Okanagan Precision Driving Association reserves the right to retain all or partial payment for cancellations less than 48 hours before the event. Failing to appear (no-show) will result in a full forfeit of the event fee. If you wish to cancel your event registration\, please visit the event dashboard and choose “Cancel registration”.
URL:https://www.okanaganautocross.net/event/__trashed-37__trashed/
LOCATION:Okanagan College West Lot\, 1000 K.L.O. Road\, Kelowna\, BC\, V1Y 4X8\, Canada
CATEGORIES:Autocross,Autoslalom
ORGANIZER;CN="Okanagan Precision Driving Association":MAILTO:registrar@opda.ca
END:VEVENT
BEGIN:VEVENT
DTSTART;TZID=America/Vancouver:20260501T163000
DTEND;TZID=America/Vancouver:20260501T203000
DTSTAMP:20260423T025814
CREATED:20260224T171245Z
LAST-MODIFIED:20260224T174145Z
UID:2378-1777653000-1777667400@www.okanaganautocross.net
SUMMARY:OPDA Friday Evening Autocross
DESCRIPTION:Friday evening Kelowna Autocross \nRegister here\nFind course maps here \nThis Okanagan Autocross event is being held at Okanagan College\, west parking lot\, 1000 K.L.O. Road in Kelowna\, BC. Please be aware of the morning schedule to ensure you arrive on time. \n3:30 PM – Event setup begins\n4:30 PM – Onsite check-in\n5:00 PM – Course walk\n5:45 PM – Driver’s meeting\n6:00 PM – Competition begins \nAll competitors must check-in at the registration table on arrival and complete the course walk in order to participate in the event. \nParticipants must be familiar with the OPDA Okanagan Autoslalom Supplementary Regulations and the CACC Autoslalom Regulations. \nPlease remember that an approved helmet is required\, and that no open-toed shoes are allowed. Also note that\, competitors are required to submit a completed technical self-declaration form to the technical inspector once annually for each vehicle used in an Okanagan Autocross event. \nThe Okanagan Precision Driving Association reserves the right to retain all or partial payment for cancellations less than 48 hours before the event. Failing to appear (no-show) will result in a full forfeit of the event fee. If you wish to cancel your event registration\, please visit the event dashboard and choose “Cancel registration”.
URL:https://www.okanaganautocross.net/event/__trashed-36__trashed/
LOCATION:Okanagan College West Lot\, 1000 K.L.O. Road\, Kelowna\, BC\, V1Y 4X8\, Canada
CATEGORIES:Autocross,Autoslalom
ORGANIZER;CN="Okanagan Precision Driving Association":MAILTO:registrar@opda.ca
END:VEVENT
BEGIN:VEVENT
DTSTART;TZID=America/Vancouver:20260509T073000
DTEND;TZID=America/Vancouver:20260509T153000
DTSTAMP:20260423T025814
CREATED:20260224T171245Z
LAST-MODIFIED:20260224T174325Z
UID:2379-1778311800-1778340600@www.okanaganautocross.net
SUMMARY:OPDA Saturday Autocross
DESCRIPTION:Full day of Autocross in Kelowna \nPlease visit https://www.okanaganautocross.net for information about Autocross in the Okanagan Valley.\nRegister here\nFind course maps here \nThis Okanagan Autocross event is being held at Okanagan College\, west parking lot\, 1000 K.L.O. Road in Kelowna\, BC. Please be aware of the morning schedule to ensure you arrive on time. \n7:30 AM – Onsite check-in\n8:00 AM – Course walk\n8:45 AM – Driver’s meeting\n9:00 AM – Competition begins \nAll competitors must check-in at the registration table on arrival and complete the course walk in order to participate in the event. \nParticipants must be familiar with the OPDA Okanagan Autoslalom Supplementary Regulations and the CACC Autoslalom Regulations. \nPlease remember that an approved helmet is required\, and that no open-toed shoes are allowed. Also note that\, competitors are required to submit a completed technical self-declaration form to the technical inspector once annually for each vehicle used in an Okanagan Autocross event. \nThe Okanagan Precision Driving Association reserves the right to retain all or partial payment for cancellations less than 48 hours before the event. Failing to appear (no-show) will result in a full forfeit of the event fee. If you wish to cancel your event registration\, please visit the event dashboard and choose “Cancel registration”.
URL:https://www.okanaganautocross.net/event/__trashed-35__trashed/
LOCATION:Okanagan College West Lot\, 1000 K.L.O. Road\, Kelowna\, BC\, V1Y 4X8\, Canada
CATEGORIES:Autocross,Autoslalom
ORGANIZER;CN="Okanagan Precision Driving Association":MAILTO:registrar@opda.ca
END:VEVENT
BEGIN:VEVENT
DTSTART;TZID=America/Vancouver:20260522T163000
DTEND;TZID=America/Vancouver:20260522T203000
DTSTAMP:20260423T025814
CREATED:20260224T171245Z
LAST-MODIFIED:20260224T174137Z
UID:2380-1779467400-1779481800@www.okanaganautocross.net
SUMMARY:OPDA Friday Evening Autocross
DESCRIPTION:Friday evening Kelowna Autocross \nRegister here\nFind course maps here \nThis Okanagan Autocross event is being held at Okanagan College\, west parking lot\, 1000 K.L.O. Road in Kelowna\, BC. Please be aware of the morning schedule to ensure you arrive on time. \n3:30 PM – Event setup begins\n4:30 PM – Onsite check-in\n5:00 PM – Course walk\n5:45 PM – Driver’s meeting\n6:00 PM – Competition begins \nAll competitors must check-in at the registration table on arrival and complete the course walk in order to participate in the event. \nParticipants must be familiar with the OPDA Okanagan Autoslalom Supplementary Regulations and the CACC Autoslalom Regulations. \nPlease remember that an approved helmet is required\, and that no open-toed shoes are allowed. Also note that\, competitors are required to submit a completed technical self-declaration form to the technical inspector once annually for each vehicle used in an Okanagan Autocross event. \nThe Okanagan Precision Driving Association reserves the right to retain all or partial payment for cancellations less than 48 hours before the event. Failing to appear (no-show) will result in a full forfeit of the event fee. If you wish to cancel your event registration\, please visit the event dashboard and choose “Cancel registration”.
URL:https://www.okanaganautocross.net/event/__trashed-34__trashed/
LOCATION:Okanagan College West Lot\, 1000 K.L.O. Road\, Kelowna\, BC\, V1Y 4X8\, Canada
CATEGORIES:Autocross,Autoslalom
ORGANIZER;CN="Okanagan Precision Driving Association":MAILTO:registrar@opda.ca
END:VEVENT
BEGIN:VEVENT
DTSTART;TZID=America/Vancouver:20260605T163000
DTEND;TZID=America/Vancouver:20260605T203000
DTSTAMP:20260423T025814
CREATED:20260224T171245Z
LAST-MODIFIED:20260224T174123Z
UID:2381-1780677000-1780691400@www.okanaganautocross.net
SUMMARY:OPDA Friday Evening Autocross
DESCRIPTION:Friday evening Kelowna Autocross \nRegister here\nFind course maps here \nThis Okanagan Autocross event is being held at Okanagan College\, west parking lot\, 1000 K.L.O. Road in Kelowna\, BC. Please be aware of the morning schedule to ensure you arrive on time. \n3:30 PM – Event setup begins\n4:30 PM – Onsite check-in\n5:00 PM – Course walk\n5:45 PM – Driver’s meeting\n6:00 PM – Competition begins \nAll competitors must check-in at the registration table on arrival and complete the course walk in order to participate in the event. \nParticipants must be familiar with the OPDA Okanagan Autoslalom Supplementary Regulations and the CACC Autoslalom Regulations. \nPlease remember that an approved helmet is required\, and that no open-toed shoes are allowed. Also note that\, competitors are required to submit a completed technical self-declaration form to the technical inspector once annually for each vehicle used in an Okanagan Autocross event. \nThe Okanagan Precision Driving Association reserves the right to retain all or partial payment for cancellations less than 48 hours before the event. Failing to appear (no-show) will result in a full forfeit of the event fee. If you wish to cancel your event registration\, please visit the event dashboard and choose “Cancel registration”.
URL:https://www.okanaganautocross.net/event/__trashed-33__trashed/
LOCATION:Okanagan College West Lot\, 1000 K.L.O. Road\, Kelowna\, BC\, V1Y 4X8\, Canada
CATEGORIES:Autocross,Autoslalom
ORGANIZER;CN="Okanagan Precision Driving Association":MAILTO:registrar@opda.ca
END:VEVENT
BEGIN:VEVENT
DTSTART;VALUE=DATE:20260613
DTEND;VALUE=DATE:20260615
DTSTAMP:20260423T025814
CREATED:20260224T171245Z
LAST-MODIFIED:20260224T173718Z
UID:2382-1781308800-1781481599@www.okanaganautocross.net
SUMMARY:VCMC Merritt Autocross
DESCRIPTION:
URL:https://www.okanaganautocross.net/event/__trashed-32__trashed/
LOCATION:Merritt Regional Airport\, 4510 Airport Rd\, Merritt\, BC\, V1K 1M5\, Canada
CATEGORIES:Autocross,Autoslalom
END:VEVENT
BEGIN:VEVENT
DTSTART;TZID=America/Vancouver:20260619T163000
DTEND;TZID=America/Vancouver:20260619T203000
DTSTAMP:20260423T025814
CREATED:20260224T171245Z
LAST-MODIFIED:20260224T174111Z
UID:2383-1781886600-1781901000@www.okanaganautocross.net
SUMMARY:OPDA Friday Evening Autocross
DESCRIPTION:Friday evening Kelowna Autocross \nRegister here\nFind course maps here \nThis Okanagan Autocross event is being held at Okanagan College\, west parking lot\, 1000 K.L.O. Road in Kelowna\, BC. Please be aware of the morning schedule to ensure you arrive on time. \n3:30 PM – Event setup begins\n4:30 PM – Onsite check-in\n5:00 PM – Course walk\n5:45 PM – Driver’s meeting\n6:00 PM – Competition begins \nAll competitors must check-in at the registration table on arrival and complete the course walk in order to participate in the event. \nParticipants must be familiar with the OPDA Okanagan Autoslalom Supplementary Regulations and the CACC Autoslalom Regulations. \nPlease remember that an approved helmet is required\, and that no open-toed shoes are allowed. Also note that\, competitors are required to submit a completed technical self-declaration form to the technical inspector once annually for each vehicle used in an Okanagan Autocross event. \nThe Okanagan Precision Driving Association reserves the right to retain all or partial payment for cancellations less than 48 hours before the event. Failing to appear (no-show) will result in a full forfeit of the event fee. If you wish to cancel your event registration\, please visit the event dashboard and choose “Cancel registration”.
URL:https://www.okanaganautocross.net/event/__trashed-31__trashed/
LOCATION:Okanagan College West Lot\, 1000 K.L.O. Road\, Kelowna\, BC\, V1Y 4X8\, Canada
CATEGORIES:Autocross,Autoslalom
ORGANIZER;CN="Okanagan Precision Driving Association":MAILTO:registrar@opda.ca
END:VEVENT
BEGIN:VEVENT
DTSTART;TZID=America/Vancouver:20260627T073000
DTEND;TZID=America/Vancouver:20260627T153000
DTSTAMP:20260423T025814
CREATED:20260224T171245Z
LAST-MODIFIED:20260224T174314Z
UID:2384-1782545400-1782574200@www.okanaganautocross.net
SUMMARY:OPDA Saturday Autocross
DESCRIPTION:Full day of Autocross in Kelowna \nPlease visit https://www.okanaganautocross.net for information about Autocross in the Okanagan Valley.\nRegister here\nFind course maps here \nThis Okanagan Autocross event is being held at Okanagan College\, west parking lot\, 1000 K.L.O. Road in Kelowna\, BC. Please be aware of the morning schedule to ensure you arrive on time. \n7:30 AM – Onsite check-in\n8:00 AM – Course walk\n8:45 AM – Driver’s meeting\n9:00 AM – Competition begins \nAll competitors must check-in at the registration table on arrival and complete the course walk in order to participate in the event. \nParticipants must be familiar with the OPDA Okanagan Autoslalom Supplementary Regulations and the CACC Autoslalom Regulations. \nPlease remember that an approved helmet is required\, and that no open-toed shoes are allowed. Also note that\, competitors are required to submit a completed technical self-declaration form to the technical inspector once annually for each vehicle used in an Okanagan Autocross event. \nThe Okanagan Precision Driving Association reserves the right to retain all or partial payment for cancellations less than 48 hours before the event. Failing to appear (no-show) will result in a full forfeit of the event fee. If you wish to cancel your event registration\, please visit the event dashboard and choose “Cancel registration”.
URL:https://www.okanaganautocross.net/event/__trashed-30__trashed/
LOCATION:Okanagan College West Lot\, 1000 K.L.O. Road\, Kelowna\, BC\, V1Y 4X8\, Canada
CATEGORIES:Autocross,Autoslalom
ORGANIZER;CN="Okanagan Precision Driving Association":MAILTO:registrar@opda.ca
END:VEVENT
BEGIN:VEVENT
DTSTART;TZID=America/Vancouver:20260710T163000
DTEND;TZID=America/Vancouver:20260710T203000
DTSTAMP:20260423T025814
CREATED:20260224T171245Z
LAST-MODIFIED:20260224T172952Z
UID:2385-1783701000-1783715400@www.okanaganautocross.net
SUMMARY:OPDA Friday Evening Autocross
DESCRIPTION:Friday evening Kelowna Autocross \nRegister here\nFind course maps here \nThis Okanagan Autocross event is being held at Okanagan College\, west parking lot\, 1000 K.L.O. Road in Kelowna\, BC. Please be aware of the morning schedule to ensure you arrive on time. \n3:30 PM – Event setup begins\n4:30 PM – Onsite check-in\n5:00 PM – Course walk\n5:45 PM – Driver’s meeting\n6:00 PM – Competition begins \nAll competitors must check-in at the registration table on arrival and complete the course walk in order to participate in the event. \nParticipants must be familiar with the OPDA Okanagan Autoslalom Supplementary Regulations and the CACC Autoslalom Regulations. \nPlease remember that an approved helmet is required\, and that no open-toed shoes are allowed. Also note that\, competitors are required to submit a completed technical self-declaration form to the technical inspector once annually for each vehicle used in an Okanagan Autocross event. \nThe Okanagan Precision Driving Association reserves the right to retain all or partial payment for cancellations less than 48 hours before the event. Failing to appear (no-show) will result in a full forfeit of the event fee. If you wish to cancel your event registration\, please visit the event dashboard and choose “Cancel registration”.
URL:https://www.okanaganautocross.net/event/__trashed-29__trashed/
LOCATION:Okanagan College West Lot\, 1000 K.L.O. Road\, Kelowna\, BC\, V1Y 4X8\, Canada
CATEGORIES:Autocross,Autoslalom
ORGANIZER;CN="Okanagan Precision Driving Association":MAILTO:registrar@opda.ca
END:VEVENT
BEGIN:VEVENT
DTSTART;TZID=America/Vancouver:20260724T163000
DTEND;TZID=America/Vancouver:20260724T203000
DTSTAMP:20260423T025814
CREATED:20260224T171245Z
LAST-MODIFIED:20260224T174057Z
UID:2386-1784910600-1784925000@www.okanaganautocross.net
SUMMARY:OPDA Friday Evening Autocross
DESCRIPTION:Friday evening Kelowna Autocross \nRegister here\nFind course maps here \nThis Okanagan Autocross event is being held at Okanagan College\, west parking lot\, 1000 K.L.O. Road in Kelowna\, BC. Please be aware of the morning schedule to ensure you arrive on time. \n3:30 PM – Event setup begins\n4:30 PM – Onsite check-in\n5:00 PM – Course walk\n5:45 PM – Driver’s meeting\n6:00 PM – Competition begins \nAll competitors must check-in at the registration table on arrival and complete the course walk in order to participate in the event. \nParticipants must be familiar with the OPDA Okanagan Autoslalom Supplementary Regulations and the CACC Autoslalom Regulations. \nPlease remember that an approved helmet is required\, and that no open-toed shoes are allowed. Also note that\, competitors are required to submit a completed technical self-declaration form to the technical inspector once annually for each vehicle used in an Okanagan Autocross event. \nThe Okanagan Precision Driving Association reserves the right to retain all or partial payment for cancellations less than 48 hours before the event. Failing to appear (no-show) will result in a full forfeit of the event fee. If you wish to cancel your event registration\, please visit the event dashboard and choose “Cancel registration”.
URL:https://www.okanaganautocross.net/event/__trashed-28__trashed/
LOCATION:Okanagan College West Lot\, 1000 K.L.O. Road\, Kelowna\, BC\, V1Y 4X8\, Canada
CATEGORIES:Autocross,Autoslalom
ORGANIZER;CN="Okanagan Precision Driving Association":MAILTO:registrar@opda.ca
END:VEVENT
BEGIN:VEVENT
DTSTART;TZID=America/Vancouver:20260808T073000
DTEND;TZID=America/Vancouver:20260808T153000
DTSTAMP:20260423T025814
CREATED:20260224T171245Z
LAST-MODIFIED:20260224T174303Z
UID:2387-1786174200-1786203000@www.okanaganautocross.net
SUMMARY:OPDA Saturday Autocross
DESCRIPTION:Full day of Autocross in Kelowna \nPlease visit https://www.okanaganautocross.net for information about Autocross in the Okanagan Valley.\nRegister here\nFind course maps here \nThis Okanagan Autocross event is being held at Okanagan College\, west parking lot\, 1000 K.L.O. Road in Kelowna\, BC. Please be aware of the morning schedule to ensure you arrive on time. \n7:30 AM – Onsite check-in\n8:00 AM – Course walk\n8:45 AM – Driver’s meeting\n9:00 AM – Competition begins \nAll competitors must check-in at the registration table on arrival and complete the course walk in order to participate in the event. \nParticipants must be familiar with the OPDA Okanagan Autoslalom Supplementary Regulations and the CACC Autoslalom Regulations. \nPlease remember that an approved helmet is required\, and that no open-toed shoes are allowed. Also note that\, competitors are required to submit a completed technical self-declaration form to the technical inspector once annually for each vehicle used in an Okanagan Autocross event. \nThe Okanagan Precision Driving Association reserves the right to retain all or partial payment for cancellations less than 48 hours before the event. Failing to appear (no-show) will result in a full forfeit of the event fee. If you wish to cancel your event registration\, please visit the event dashboard and choose “Cancel registration”.
URL:https://www.okanaganautocross.net/event/__trashed-27__trashed/
LOCATION:Okanagan College West Lot\, 1000 K.L.O. Road\, Kelowna\, BC\, V1Y 4X8\, Canada
CATEGORIES:Autocross,Autoslalom
ORGANIZER;CN="Okanagan Precision Driving Association":MAILTO:registrar@opda.ca
END:VEVENT
BEGIN:VEVENT
DTSTART;TZID=America/Vancouver:20260814T163000
DTEND;TZID=America/Vancouver:20260814T203000
DTSTAMP:20260423T025814
CREATED:20260224T171245Z
LAST-MODIFIED:20260224T174042Z
UID:2388-1786725000-1786739400@www.okanaganautocross.net
SUMMARY:OPDA Friday Evening Autocross
DESCRIPTION:Friday evening Kelowna Autocross \nRegister here\nFind course maps here \nThis Okanagan Autocross event is being held at Okanagan College\, west parking lot\, 1000 K.L.O. Road in Kelowna\, BC. Please be aware of the morning schedule to ensure you arrive on time. \n3:30 PM – Event setup begins\n4:30 PM – Onsite check-in\n5:00 PM – Course walk\n5:45 PM – Driver’s meeting\n6:00 PM – Competition begins \nAll competitors must check-in at the registration table on arrival and complete the course walk in order to participate in the event. \nParticipants must be familiar with the OPDA Okanagan Autoslalom Supplementary Regulations and the CACC Autoslalom Regulations. \nPlease remember that an approved helmet is required\, and that no open-toed shoes are allowed. Also note that\, competitors are required to submit a completed technical self-declaration form to the technical inspector once annually for each vehicle used in an Okanagan Autocross event. \nThe Okanagan Precision Driving Association reserves the right to retain all or partial payment for cancellations less than 48 hours before the event. Failing to appear (no-show) will result in a full forfeit of the event fee. If you wish to cancel your event registration\, please visit the event dashboard and choose “Cancel registration”.
URL:https://www.okanaganautocross.net/event/__trashed-26__trashed/
LOCATION:Okanagan College West Lot\, 1000 K.L.O. Road\, Kelowna\, BC\, V1Y 4X8\, Canada
CATEGORIES:Autocross,Autoslalom
ORGANIZER;CN="Okanagan Precision Driving Association":MAILTO:registrar@opda.ca
END:VEVENT
BEGIN:VEVENT
DTSTART;VALUE=DATE:20260822
DTEND;VALUE=DATE:20260824
DTSTAMP:20260423T025814
CREATED:20260224T171245Z
LAST-MODIFIED:20260224T172911Z
UID:2389-1787356800-1787529599@www.okanaganautocross.net
SUMMARY:VCMC Merritt Autocross
DESCRIPTION:
URL:https://www.okanaganautocross.net/event/__trashed-25__trashed/
LOCATION:Merritt Regional Airport\, 4510 Airport Rd\, Merritt\, BC\, V1K 1M5\, Canada
CATEGORIES:Autocross,Autoslalom
END:VEVENT
BEGIN:VEVENT
DTSTART;TZID=America/Vancouver:20260828T163000
DTEND;TZID=America/Vancouver:20260828T203000
DTSTAMP:20260423T025814
CREATED:20260224T172839Z
LAST-MODIFIED:20260224T173930Z
UID:2415-1787934600-1787949000@www.okanaganautocross.net
SUMMARY:OPDA Friday Evening Autocross
DESCRIPTION:Friday evening Kelowna Autocross \nRegister here\nFind course maps here \nThis Okanagan Autocross event is being held at Okanagan College\, west parking lot\, 1000 K.L.O. Road in Kelowna\, BC. Please be aware of the morning schedule to ensure you arrive on time. \n3:30 PM – Event setup begins\n4:30 PM – Onsite check-in\n5:00 PM – Course walk\n5:45 PM – Driver’s meeting\n6:00 PM – Competition begins \nAll competitors must check-in at the registration table on arrival and complete the course walk in order to participate in the event. \nParticipants must be familiar with the OPDA Okanagan Autoslalom Supplementary Regulations and the CACC Autoslalom Regulations. \nPlease remember that an approved helmet is required\, and that no open-toed shoes are allowed. Also note that\, competitors are required to submit a completed technical self-declaration form to the technical inspector once annually for each vehicle used in an Okanagan Autocross event. \nThe Okanagan Precision Driving Association reserves the right to retain all or partial payment for cancellations less than 48 hours before the event. Failing to appear (no-show) will result in a full forfeit of the event fee. If you wish to cancel your event registration\, please visit the event dashboard and choose “Cancel registration”.
URL:https://www.okanaganautocross.net/event/opda-friday-evening-autocross/
LOCATION:Okanagan College West Lot\, 1000 K.L.O. Road\, Kelowna\, BC\, V1Y 4X8\, Canada
CATEGORIES:Autocross,Autoslalom
ORGANIZER;CN="Okanagan Precision Driving Association":MAILTO:registrar@opda.ca
END:VEVENT
BEGIN:VEVENT
DTSTART;TZID=America/Vancouver:20260911T163000
DTEND;TZID=America/Vancouver:20260911T203000
DTSTAMP:20260423T025814
CREATED:20260224T171245Z
LAST-MODIFIED:20260224T174033Z
UID:2391-1789144200-1789158600@www.okanaganautocross.net
SUMMARY:OPDA Friday Evening Autocross
DESCRIPTION:Friday evening Kelowna Autocross \nRegister here\nFind course maps here \nThis Okanagan Autocross event is being held at Okanagan College\, west parking lot\, 1000 K.L.O. Road in Kelowna\, BC. Please be aware of the morning schedule to ensure you arrive on time. \n3:30 PM – Event setup begins\n4:30 PM – Onsite check-in\n5:00 PM – Course walk\n5:45 PM – Driver’s meeting\n6:00 PM – Competition begins \nAll competitors must check-in at the registration table on arrival and complete the course walk in order to participate in the event. \nParticipants must be familiar with the OPDA Okanagan Autoslalom Supplementary Regulations and the CACC Autoslalom Regulations. \nPlease remember that an approved helmet is required\, and that no open-toed shoes are allowed. Also note that\, competitors are required to submit a completed technical self-declaration form to the technical inspector once annually for each vehicle used in an Okanagan Autocross event. \nThe Okanagan Precision Driving Association reserves the right to retain all or partial payment for cancellations less than 48 hours before the event. Failing to appear (no-show) will result in a full forfeit of the event fee. If you wish to cancel your event registration\, please visit the event dashboard and choose “Cancel registration”.
URL:https://www.okanaganautocross.net/event/__trashed-23/
LOCATION:Okanagan College West Lot\, 1000 K.L.O. Road\, Kelowna\, BC\, V1Y 4X8\, Canada
CATEGORIES:Autocross,Autoslalom
ORGANIZER;CN="Okanagan Precision Driving Association":MAILTO:registrar@opda.ca
END:VEVENT
BEGIN:VEVENT
DTSTART;VALUE=DATE:20260919
DTEND;VALUE=DATE:20260921
DTSTAMP:20260423T025814
CREATED:20260224T171245Z
LAST-MODIFIED:20260225T062522Z
UID:2392-1789776000-1789948799@www.okanaganautocross.net
SUMMARY:VCMC Merritt Autocross
DESCRIPTION:
URL:https://www.okanaganautocross.net/event/__trashed-22/
LOCATION:Merritt Regional Airport\, 4510 Airport Rd\, Merritt\, BC\, V1K 1M5\, Canada
CATEGORIES:Autocross,Autoslalom
END:VEVENT
BEGIN:VEVENT
DTSTART;TZID=America/Vancouver:20260926T073000
DTEND;TZID=America/Vancouver:20260927T153000
DTSTAMP:20260423T025814
CREATED:20260224T171244Z
LAST-MODIFIED:20260225T062642Z
UID:2393-1790407800-1790523000@www.okanaganautocross.net
SUMMARY:OPDA Autocross 2-Day Eliminator
DESCRIPTION:OPDA Okanagan Autocross Annual 2-Day Eliminator \nThis Okanagan Autocross event is being held at Okanagan College West Parking Lot\, 1000 K.L.O. Road\, Kelowna. Please be aware of the morning schedule to ensure you arrive on time. \n7:30 AM – Onsite check-in\n8:00 AM – Course walk\n8:45 AM – Driver’s meeting\n9:00 AM – Competition begins \nFind course maps here \nAll competitors must check-in at the registration table on arrival and complete the course walk in order to participate in the event. \nParticipants must be familiar with the OPDA Okanagan Autoslalom Supplementary Regulations and the CACC Autoslalom Regulations. \nPlease remember that an approved helmet is required\, and that no open-toed shoes are allowed. Also note that\, competitors are required to submit a completed technical self-declaration form to the technical inspector once annually for each vehicle used in an Okanagan Autocross event. \nThe Okanagan Precision Driving Association reserves the right to retain all or partial payment for cancellations less than 48 hours before the event. Failing to appear (no-show) will result in a full forfeit of the event fee. If you wish to cancel your event registration\, please visit the event dashboard and choose “Cancel registration”.
URL:https://www.okanaganautocross.net/event/__trashed-21/
LOCATION:Okanagan College West Lot\, 1000 K.L.O. Road\, Kelowna\, BC\, V1Y 4X8\, Canada
CATEGORIES:Autocross,Autoslalom
ORGANIZER;CN="Okanagan Precision Driving Association":MAILTO:registrar@opda.ca
END:VEVENT
END:VCALENDAR